BEGIN:VCALENDAR
VERSION:2.0
PRODID:-//Messiah Festival - ECPv6.12.0.1//NONSGML v1.0//EN
CALSCALE:GREGORIAN
METHOD:PUBLISH
X-ORIGINAL-URL:https://www.messiahfestival.org
X-WR-CALDESC:Events for Messiah Festival
REFRESH-INTERVAL;VALUE=DURATION:PT1H
X-Robots-Tag:noindex
X-PUBLISHED-TTL:PT1H
BEGIN:VTIMEZONE
TZID:America/Chicago
BEGIN:DAYLIGHT
TZOFFSETFROM:-0600
TZOFFSETTO:-0500
TZNAME:CDT
DTSTART:20260308T080000
END:DAYLIGHT
BEGIN:STANDARD
TZOFFSETFROM:-0500
TZOFFSETTO:-0600
TZNAME:CST
DTSTART:20261101T070000
END:STANDARD
END:VTIMEZONE
BEGIN:VEVENT
DTSTART;TZID=America/Chicago:20260127T190000
DTEND;TZID=America/Chicago:20260127T210000
DTSTAMP:20260424T063059
CREATED:20251118T171542Z
LAST-MODIFIED:20251118T190752Z
UID:3118-1769540400-1769547600@www.messiahfestival.org
SUMMARY:Bach Rehearsals Begin
DESCRIPTION:Participate in the start of preparations for the festival’s Bach performance as musicians gather to explore the intricate beauty of the Baroque master’s compositions. These rehearsals offer a unique opportunity to be part of bringing Bach’s timeless music to life. Join fellow musicians in crafting a performance that celebrates the spiritual depth of Bach’s genius.
URL:https://www.messiahfestival.org/event/bach-rehearsals-begin-2026/
LOCATION:Pearson Chapel\, 335 E Swensson\, Lindsborg\, KS\, 67456\, United States
CATEGORIES:2026
ATTACH;FMTTYPE=image/png:https://www.messiahfestival.org/wp-content/uploads/2023/09/Event-Placeholder.png
ORGANIZER;CN="Bethany College":MAILTO:bccommunications@bethanylb.edu
END:VEVENT
END:VCALENDAR